BEGIN:VCALENDAR
VERSION:2.0
PRODID:-//Portland Amateur Radio Club - ECPv5.12.0//NONSGML v1.0//EN
CALSCALE:GREGORIAN
METHOD:PUBLISH
X-WR-CALNAME:Portland Amateur Radio Club
X-ORIGINAL-URL:https://w7lt.org
X-WR-CALDESC:Events for Portland Amateur Radio Club
REFRESH-INTERVAL;VALUE=DURATION:PT1H
X-Robots-Tag:noindex
X-PUBLISHED-TTL:PT1H
BEGIN:VTIMEZONE
TZID:America/Los_Angeles
BEGIN:DAYLIGHT
TZOFFSETFROM:-0800
TZOFFSETTO:-0700
TZNAME:PDT
DTSTART:20210314T100000
END:DAYLIGHT
BEGIN:STANDARD
TZOFFSETFROM:-0700
TZOFFSETTO:-0800
TZNAME:PST
DTSTART:20211107T090000
END:STANDARD
END:VTIMEZONE
BEGIN:VEVENT
DTSTART;TZID=America/Los_Angeles:20211213T190000
DTEND;TZID=America/Los_Angeles:20211213T210000
DTSTAMP:20211206T105557
CREATED:20211117T190035Z
LAST-MODIFIED:20211118T203318Z
UID:1978-1639422000-1639429200@w7lt.org
SUMMARY:Monthly PARC Meeting - Power Meter Kit / PARC 2022 / Winter Field Day 2022
DESCRIPTION:Join PARC’s December meeting where we will introduce a Power Meter Kit by Scott Baker\, KJ7NLA.  Scott’s kit will be available for members to purchase. \n We will also discuss activities planned for 2022\, and how you can help make PARC a better club.  What does the PARC Board do?  Find out and run for a board position.  We will review all the board positions\, what they do and how much time it takes to be on the board. \n Winter Field Day is like regular Field Day\, but a little colder.  2021 Field Day temps topped out at 107\, so it’ll be good to cool down the last full weekend in January.  We’ll discuss PARC’s Winter Field Day 2022 setup. \n			\n				\n				\n				How to Attend \nPARC uses Zoom for our monthly\, virtual meetings.  Each month we have great presentations by fellow ham radio enthusiasts from around the world. \nThe Zoom meeting begins at 7:00pm\, with the main presentation beginning around 7:30pm. \nTO REGISTER FOR THE ZOOM MEETING\, click on the registration link:https://us02web.zoom.us/meeting/register/tZIqfuqvqzMiH93RWkAbgAvcptpruNlpNHbc \nAfter registering\, you will receive a Zoom meeting link. \nLost your Zoom meeting link? Just register again. \nEveryone is welcome to attend. \nAttendees must pre-register
URL:https://w7lt.org/event/monthly-parc-meeting-topic-power-meter/
CATEGORIES:PARC Monthly Meetings
ATTACH;FMTTYPE=image/jpeg:https://w7lt.org/wp-content/uploads/2021/11/Power-meter.jpg
END:VEVENT
END:VCALENDAR